BEGIN:VCALENDAR
VERSION:2.0
PRODID:-//horsealert.local//NONSGML kigkonsult.se iCalcreator 2.10.5//
CALSCALE:GREGORIAN
X-WR-TIMEZONE:Europe/Dublin
BEGIN:VTIMEZONE
TZID:Etc/GMT-1
BEGIN:STANDARD
DTSTART:20010101T000000
TZOFFSETFROM:+0100
TZOFFSETTO:+0100
TZNAME:GMT +01:00
END:STANDARD
END:VTIMEZONE
BEGIN:VEVENT
UID:20260424T225133CEST-5861SVaCfR@horsealert.local
DTSTAMP:20260424T200433Z
CATEGORIES:Horse Alerts
DESCRIPTION:Download New Racing UK iPad App \'National Hunt\' Novices\' Hur
 dle
DTSTART:20140121T143000
LOCATION:England
SUMMARY:Horse Racing:Download New Racing UK iPad App \'National Hunt\' Novi
 ces\' Hurdle
END:VEVENT
END:VCALENDAR
