BEGIN:VCALENDAR
VERSION:2.0
PRODID:-//horsealert.local//NONSGML kigkonsult.se iCalcreator 2.10.5//
CALSCALE:GREGORIAN
X-WR-TIMEZONE:Europe/Dublin
BEGIN:VTIMEZONE
TZID:Etc/GMT-1
BEGIN:STANDARD
DTSTART:20010101T000000
TZOFFSETFROM:+0100
TZOFFSETTO:+0100
TZNAME:GMT +01:00
END:STANDARD
END:VTIMEZONE
BEGIN:VEVENT
UID:20260424T225131CEST-4817Ur4COu@horsealert.local
DTSTAMP:20260424T200431Z
CATEGORIES:Horse Alerts
DESCRIPTION:Bet Through The Racing Post Mobile App Handicap \(Div 1\)
DTSTART:20140119T143000
LOCATION:England
SUMMARY:Horse Racing:Bet Through The Racing Post Mobile App Handicap \(Div 
 1\)
END:VEVENT
END:VCALENDAR
