BEGIN:VCALENDAR
VERSION:2.0
PRODID:-//horsealert.local//NONSGML kigkonsult.se iCalcreator 2.10.5//
CALSCALE:GREGORIAN
X-WR-TIMEZONE:Europe/Dublin
BEGIN:VTIMEZONE
TZID:Etc/GMT-1
BEGIN:STANDARD
DTSTART:20010101T000000
TZOFFSETFROM:+0100
TZOFFSETTO:+0100
TZNAME:GMT +01:00
END:STANDARD
END:VTIMEZONE
BEGIN:VEVENT
UID:20260424T225148CEST-7249U5UF2R@horsealert.local
DTSTAMP:20260424T200448Z
CATEGORIES:Horse Alerts
DESCRIPTION:IMA Conditional Jockeys\' Handicap Chase \(Betfair Scottish Cha
 se Series Qualifier\)
DTSTART:20140117T131500
LOCATION:Scotland
SUMMARY:Horse Racing:IMA Conditional Jockeys\' Handicap Chase \(Betfair Sco
 ttish Chase Series Qualifier\)
END:VEVENT
END:VCALENDAR
