BEGIN:VCALENDAR
VERSION:2.0
PRODID:-//horsealert.local//NONSGML kigkonsult.se iCalcreator 2.10.5//
CALSCALE:GREGORIAN
X-WR-TIMEZONE:Europe/Dublin
BEGIN:VTIMEZONE
TZID:Etc/GMT-1
BEGIN:STANDARD
DTSTART:20010101T000000
TZOFFSETFROM:+0100
TZOFFSETTO:+0100
TZNAME:GMT +01:00
END:STANDARD
END:VTIMEZONE
BEGIN:VEVENT
UID:20260425T035218CEST-1783UDCjc4@horsealert.local
DTSTAMP:20260425T010418Z
CATEGORIES:Horse Alerts
DESCRIPTION:Winners Are Welcome At Betdaq Conditions Stakes \(Fast Track Qu
 alifier\)
DTSTART:20140115T182500
LOCATION:England
SUMMARY:Horse Racing:Winners Are Welcome At Betdaq Conditions Stakes \(Fast
  Track Qualifier\)
END:VEVENT
END:VCALENDAR
