BEGIN:VCALENDAR
VERSION:2.0
PRODID:-//horsealert.local//NONSGML kigkonsult.se iCalcreator 2.10.5//
CALSCALE:GREGORIAN
X-WR-TIMEZONE:Europe/Dublin
BEGIN:VTIMEZONE
TZID:Etc/GMT-1
BEGIN:STANDARD
DTSTART:20010101T000000
TZOFFSETFROM:+0100
TZOFFSETTO:+0100
TZNAME:GMT +01:00
END:STANDARD
END:VTIMEZONE
BEGIN:VEVENT
UID:20260424T210211CEST-2958LBku0J@horsealert.local
DTSTAMP:20260424T190411Z
CATEGORIES:Horse Alerts
DESCRIPTION:Download The All New freebets.co.uk \'National Hunt\' Novices\'
  Hurdle
DTSTART:20140108T141000
LOCATION:England
SUMMARY:Horse Racing:Download The All New freebets.co.uk \'National Hunt\' 
 Novices\' Hurdle
END:VEVENT
END:VCALENDAR
