BEGIN:VCALENDAR
VERSION:2.0
PRODID:-//horsealert.local//NONSGML kigkonsult.se iCalcreator 2.10.5//
CALSCALE:GREGORIAN
X-WR-TIMEZONE:Europe/Dublin
BEGIN:VTIMEZONE
TZID:Etc/GMT-1
BEGIN:STANDARD
DTSTART:20010101T000000
TZOFFSETFROM:+0100
TZOFFSETTO:+0100
TZNAME:GMT +01:00
END:STANDARD
END:VTIMEZONE
BEGIN:VEVENT
UID:20260425T053207CEST-1045SVb50A@horsealert.local
DTSTAMP:20260425T030407Z
CATEGORIES:Horse Alerts
DESCRIPTION:Download The totepool Mobile App Novices\' Hurdle
DTSTART:20140106T143000
LOCATION:England
SUMMARY:Horse Racing:Download The totepool Mobile App Novices\' Hurdle
END:VEVENT
END:VCALENDAR
