BEGIN:VCALENDAR
VERSION:2.0
PRODID:-//horsealert.local//NONSGML kigkonsult.se iCalcreator 2.10.5//
CALSCALE:GREGORIAN
X-WR-TIMEZONE:Europe/Dublin
BEGIN:VTIMEZONE
TZID:Etc/GMT-1
BEGIN:STANDARD
DTSTART:20010101T000000
TZOFFSETFROM:+0100
TZOFFSETTO:+0100
TZNAME:GMT +01:00
END:STANDARD
END:VTIMEZONE
BEGIN:VEVENT
UID:20260424T210023CEST-7733HrMSgS@horsealert.local
DTSTAMP:20260424T190423Z
CATEGORIES:Horse Alerts
DESCRIPTION:bookmakers.co.uk Sprint Series Round 1 Handicap \(Qualifier\)
DTSTART:20140104T140000
LOCATION:England
SUMMARY:Horse Racing:bookmakers.co.uk Sprint Series Round 1 Handicap \(Qual
 ifier\)
END:VEVENT
END:VCALENDAR
