BEGIN:VCALENDAR
VERSION:2.0
PRODID:-//horsealert.local//NONSGML kigkonsult.se iCalcreator 2.10.5//
CALSCALE:GREGORIAN
X-WR-TIMEZONE:Europe/Dublin
BEGIN:VTIMEZONE
TZID:Etc/GMT-1
BEGIN:STANDARD
DTSTART:20010101T000000
TZOFFSETFROM:+0100
TZOFFSETTO:+0100
TZNAME:GMT +01:00
END:STANDARD
END:VTIMEZONE
BEGIN:VEVENT
UID:20260424T225123CEST-3589nree7G@horsealert.local
DTSTAMP:20260424T200423Z
CATEGORIES:Horse Alerts
DESCRIPTION:Huntingdon Racecourse/HBLB Mares\' Standard Open NH Flat Race \
 (Listed\)
DTSTART:20140102T151000
LOCATION:England
SUMMARY:Horse Racing:Huntingdon Racecourse/HBLB Mares\' Standard Open NH Fl
 at Race \(Listed\)
END:VEVENT
END:VCALENDAR
