BEGIN:VCALENDAR
VERSION:2.0
PRODID:-//horsealert.local//NONSGML kigkonsult.se iCalcreator 2.10.5//
CALSCALE:GREGORIAN
X-WR-TIMEZONE:Europe/Dublin
BEGIN:VTIMEZONE
TZID:Etc/GMT-1
BEGIN:STANDARD
DTSTART:20010101T000000
TZOFFSETFROM:+0100
TZOFFSETTO:+0100
TZNAME:GMT +01:00
END:STANDARD
END:VTIMEZONE
BEGIN:VEVENT
UID:20260424T223715CEST-1639tjE9oI@horsealert.local
DTSTAMP:20260424T200415Z
CATEGORIES:Horse Alerts
DESCRIPTION:Buy Your 2014 Annual Membership Beginners Chase
DTSTART:20131231T124500
LOCATION:Eire
SUMMARY:Horse Racing:Buy Your 2014 Annual Membership Beginners Chase
END:VEVENT
END:VCALENDAR
