BEGIN:VCALENDAR
VERSION:2.0
PRODID:-//horsealert.local//NONSGML kigkonsult.se iCalcreator 2.10.5//
CALSCALE:GREGORIAN
X-WR-TIMEZONE:Europe/Dublin
BEGIN:VTIMEZONE
TZID:Etc/GMT-1
BEGIN:STANDARD
DTSTART:20010101T000000
TZOFFSETFROM:+0100
TZOFFSETTO:+0100
TZNAME:GMT +01:00
END:STANDARD
END:VTIMEZONE
BEGIN:VEVENT
UID:20260425T003110CEST-1480JoEwaG@horsealert.local
DTSTAMP:20260424T220410Z
CATEGORIES:Horse Alerts
DESCRIPTION:ST14 Construction Handicap Chase
DTSTART:20131231T144000
LOCATION:England
SUMMARY:Horse Racing:ST14 Construction Handicap Chase
END:VEVENT
END:VCALENDAR
