BEGIN:VCALENDAR
VERSION:2.0
PRODID:-//horsealert.local//NONSGML kigkonsult.se iCalcreator 2.10.5//
CALSCALE:GREGORIAN
X-WR-TIMEZONE:Europe/Dublin
BEGIN:VTIMEZONE
TZID:Etc/GMT-1
BEGIN:STANDARD
DTSTART:20010101T000000
TZOFFSETFROM:+0100
TZOFFSETTO:+0100
TZNAME:GMT +01:00
END:STANDARD
END:VTIMEZONE
BEGIN:VEVENT
UID:20260424T223629CEST-7180B3eOp1@horsealert.local
DTSTAMP:20260424T200429Z
CATEGORIES:Horse Alerts
DESCRIPTION:Isle Of Skye Blended Scotch Whisky Handicap Hurdle \(Sunday 5k 
 Bonus Race\)
DTSTART:20131229T151500
LOCATION:Scotland
SUMMARY:Horse Racing:Isle Of Skye Blended Scotch Whisky Handicap Hurdle \(S
 unday 5k Bonus Race\)
END:VEVENT
END:VCALENDAR
