BEGIN:VCALENDAR
VERSION:2.0
PRODID:-//horsealert.local//NONSGML kigkonsult.se iCalcreator 2.10.5//
CALSCALE:GREGORIAN
X-WR-TIMEZONE:Europe/Dublin
BEGIN:VTIMEZONE
TZID:Etc/GMT-1
BEGIN:STANDARD
DTSTART:20010101T000000
TZOFFSETFROM:+0100
TZOFFSETTO:+0100
TZNAME:GMT +01:00
END:STANDARD
END:VTIMEZONE
BEGIN:VEVENT
UID:20260425T000920CEST-5478M1H6ZH@horsealert.local
DTSTAMP:20260424T220420Z
CATEGORIES:Horse Alerts
DESCRIPTION:William Hill - No. 1 Downloaded Betting App Handicap Hurdle \(D
 iv 2\)
DTSTART:20131227T152500
LOCATION:England
SUMMARY:Horse Racing:William Hill - No. 1 Downloaded Betting App Handicap H
 urdle \(Div 2\)
END:VEVENT
END:VCALENDAR
