BEGIN:VCALENDAR
VERSION:2.0
PRODID:-//horsealert.local//NONSGML kigkonsult.se iCalcreator 2.10.5//
CALSCALE:GREGORIAN
X-WR-TIMEZONE:Europe/Dublin
BEGIN:VTIMEZONE
TZID:Etc/GMT-1
BEGIN:STANDARD
DTSTART:20010101T000000
TZOFFSETFROM:+0100
TZOFFSETTO:+0100
TZNAME:GMT +01:00
END:STANDARD
END:VTIMEZONE
BEGIN:VEVENT
UID:20260425T003118CEST-0119oHElip@horsealert.local
DTSTAMP:20260424T220418Z
CATEGORIES:Horse Alerts
DESCRIPTION:Bet totetrifecta On All Races Handicap Hurdle \(For The Leicest
 ershire Bronze Fox\)
DTSTART:20131227T151500
LOCATION:England
SUMMARY:Horse Racing:Bet totetrifecta On All Races Handicap Hurdle \(For Th
 e Leicestershire Bronze Fox\)
END:VEVENT
END:VCALENDAR
