BEGIN:VCALENDAR
VERSION:2.0
PRODID:-//horsealert.local//NONSGML kigkonsult.se iCalcreator 2.10.5//
CALSCALE:GREGORIAN
X-WR-TIMEZONE:Europe/Dublin
BEGIN:VTIMEZONE
TZID:Etc/GMT-1
BEGIN:STANDARD
DTSTART:20010101T000000
TZOFFSETFROM:+0100
TZOFFSETTO:+0100
TZNAME:GMT +01:00
END:STANDARD
END:VTIMEZONE
BEGIN:VEVENT
UID:20260424T223738CEST-9969MDO3RP@horsealert.local
DTSTAMP:20260424T200438Z
CATEGORIES:Horse Alerts
DESCRIPTION:William Hill - iPhone\, iPad\, iPad Mini Juvenile Hurdle
DTSTART:20131227T130000
LOCATION:England
SUMMARY:Horse Racing:William Hill - iPhone\, iPad\, iPad Mini Juvenile Hurd
 le
END:VEVENT
END:VCALENDAR
