BEGIN:VCALENDAR
VERSION:2.0
PRODID:-//horsealert.local//NONSGML kigkonsult.se iCalcreator 2.10.5//
CALSCALE:GREGORIAN
X-WR-TIMEZONE:Europe/Dublin
BEGIN:VTIMEZONE
TZID:Etc/GMT-1
BEGIN:STANDARD
DTSTART:20010101T000000
TZOFFSETFROM:+0100
TZOFFSETTO:+0100
TZNAME:GMT +01:00
END:STANDARD
END:VTIMEZONE
BEGIN:VEVENT
UID:20260425T021611CEST-2902s3v5FI@horsealert.local
DTSTAMP:20260425T000411Z
CATEGORIES:Horse Alerts
DESCRIPTION:Kauto Star Novices\' Chase \(In Memory Of Nigel Clark\) \(Forme
 rly The Feltham Novices\' Chase\) \(Grade 1\)
DTSTART:20131226T140000
LOCATION:England
SUMMARY:Horse Racing:Kauto Star Novices\' Chase \(In Memory Of Nigel Clark\
 ) \(Formerly The Feltham Novices\' Chase\) \(Grade 1\)
END:VEVENT
END:VCALENDAR
