BEGIN:VCALENDAR
VERSION:2.0
PRODID:-//horsealert.local//NONSGML kigkonsult.se iCalcreator 2.10.5//
CALSCALE:GREGORIAN
X-WR-TIMEZONE:Europe/Dublin
BEGIN:VTIMEZONE
TZID:Etc/GMT-1
BEGIN:STANDARD
DTSTART:20010101T000000
TZOFFSETFROM:+0100
TZOFFSETTO:+0100
TZNAME:GMT +01:00
END:STANDARD
END:VTIMEZONE
BEGIN:VEVENT
UID:20260425T014414CEST-4759Z5ij7F@horsealert.local
DTSTAMP:20260424T230414Z
CATEGORIES:Horse Alerts
DESCRIPTION:totepool Wishing Racegoers A Merry Christmas E.B.F. \'National 
 Hunt\' Novices\' Hurdle \(Qualifier\)
DTSTART:20131226T132000
LOCATION:England
SUMMARY:Horse Racing:totepool Wishing Racegoers A Merry Christmas E.B.F. \'
 National Hunt\' Novices\' Hurdle \(Qualifier\)
END:VEVENT
END:VCALENDAR
