BEGIN:VCALENDAR
VERSION:2.0
PRODID:-//horsealert.local//NONSGML kigkonsult.se iCalcreator 2.10.5//
CALSCALE:GREGORIAN
X-WR-TIMEZONE:Europe/Dublin
BEGIN:VTIMEZONE
TZID:Etc/GMT-1
BEGIN:STANDARD
DTSTART:20010101T000000
TZOFFSETFROM:+0100
TZOFFSETTO:+0100
TZNAME:GMT +01:00
END:STANDARD
END:VTIMEZONE
BEGIN:VEVENT
UID:20260425T035538CEST-8851VD1Aom@horsealert.local
DTSTAMP:20260425T010438Z
CATEGORIES:Horse Alerts
DESCRIPTION:32Red Handicap Hurdle \(Jockey Club Grassroots Jumps Series Qua
 lifier\)
DTSTART:20131226T152000
LOCATION:England
SUMMARY:Horse Racing:32Red Handicap Hurdle \(Jockey Club Grassroots Jumps S
 eries Qualifier\)
END:VEVENT
END:VCALENDAR
