BEGIN:VCALENDAR
VERSION:2.0
PRODID:-//horsealert.local//NONSGML kigkonsult.se iCalcreator 2.10.5//
CALSCALE:GREGORIAN
X-WR-TIMEZONE:Europe/Dublin
BEGIN:VTIMEZONE
TZID:Etc/GMT-1
BEGIN:STANDARD
DTSTART:20010101T000000
TZOFFSETFROM:+0100
TZOFFSETTO:+0100
TZNAME:GMT +01:00
END:STANDARD
END:VTIMEZONE
BEGIN:VEVENT
UID:20260425T003349CEST-7150p5mADC@horsealert.local
DTSTAMP:20260424T220449Z
CATEGORIES:Horse Alerts
DESCRIPTION:Lady Mostyn Memorial Red Cross Maiden Hurdle
DTSTART:20131222T144000
LOCATION:Wales
SUMMARY:Horse Racing:Lady Mostyn Memorial Red Cross Maiden Hurdle
END:VEVENT
END:VCALENDAR
