BEGIN:VCALENDAR
VERSION:2.0
PRODID:-//horsealert.local//NONSGML kigkonsult.se iCalcreator 2.10.5//
CALSCALE:GREGORIAN
X-WR-TIMEZONE:Europe/Dublin
BEGIN:VTIMEZONE
TZID:Etc/GMT-1
BEGIN:STANDARD
DTSTART:20010101T000000
TZOFFSETFROM:+0100
TZOFFSETTO:+0100
TZNAME:GMT +01:00
END:STANDARD
END:VTIMEZONE
BEGIN:VEVENT
UID:20260424T223725CEST-9020NV9oj7@horsealert.local
DTSTAMP:20260424T200425Z
CATEGORIES:Horse Alerts
DESCRIPTION:Northern Racing Club \'Saturday Naps Challenge\' Juvenile Hurdl
 e
DTSTART:20131222T134000
LOCATION:Wales
SUMMARY:Horse Racing:Northern Racing Club \'Saturday Naps Challenge\' Juven
 ile Hurdle
END:VEVENT
END:VCALENDAR
