BEGIN:VCALENDAR
VERSION:2.0
PRODID:-//horsealert.local//NONSGML kigkonsult.se iCalcreator 2.10.5//
CALSCALE:GREGORIAN
X-WR-TIMEZONE:Europe/Dublin
BEGIN:VTIMEZONE
TZID:Etc/GMT-1
BEGIN:STANDARD
DTSTART:20010101T000000
TZOFFSETFROM:+0100
TZOFFSETTO:+0100
TZNAME:GMT +01:00
END:STANDARD
END:VTIMEZONE
BEGIN:VEVENT
UID:20260425T021807CEST-5513jER5WG@horsealert.local
DTSTAMP:20260425T000407Z
CATEGORIES:Horse Alerts
DESCRIPTION:Pin Point Technical & Me Northumberland Chase \(Handicap\)
DTSTART:20131221T134000
LOCATION:England
SUMMARY:Horse Racing:Pin Point Technical & Me Northumberland Chase \(Handic
 ap\)
END:VEVENT
END:VCALENDAR
