BEGIN:VCALENDAR
VERSION:2.0
PRODID:-//horsealert.local//NONSGML kigkonsult.se iCalcreator 2.10.5//
CALSCALE:GREGORIAN
X-WR-TIMEZONE:Europe/Dublin
BEGIN:VTIMEZONE
TZID:Etc/GMT-1
BEGIN:STANDARD
DTSTART:20010101T000000
TZOFFSETFROM:+0100
TZOFFSETTO:+0100
TZNAME:GMT +01:00
END:STANDARD
END:VTIMEZONE
BEGIN:VEVENT
UID:20260424T223714CEST-3390rHr8aA@horsealert.local
DTSTAMP:20260424T200414Z
CATEGORIES:Horse Alerts
DESCRIPTION:Crowne Plaza Leading Jockey & Trainer Awards 2013 Handicap
DTSTART:20131220T191500
LOCATION:Eire
SUMMARY:Horse Racing:Crowne Plaza Leading Jockey & Trainer Awards 2013 Hand
 icap
END:VEVENT
END:VCALENDAR
