BEGIN:VCALENDAR
VERSION:2.0
PRODID:-//horsealert.local//NONSGML kigkonsult.se iCalcreator 2.10.5//
CALSCALE:GREGORIAN
X-WR-TIMEZONE:Europe/Dublin
BEGIN:VTIMEZONE
TZID:Etc/GMT-1
BEGIN:STANDARD
DTSTART:20010101T000000
TZOFFSETFROM:+0100
TZOFFSETTO:+0100
TZNAME:GMT +01:00
END:STANDARD
END:VTIMEZONE
BEGIN:VEVENT
UID:20260424T225236CEST-4152G08W83@horsealert.local
DTSTAMP:20260424T200436Z
CATEGORIES:Horse Alerts
DESCRIPTION:Collect totepool Bets In All Betfred Shops Mares\' Handicap Hur
 dle \(Sunday 5k Bonus Race\)
DTSTART:20131215T143500
LOCATION:England
SUMMARY:Horse Racing:Collect totepool Bets In All Betfred Shops Mares\' Han
 dicap Hurdle \(Sunday 5k Bonus Race\)
END:VEVENT
END:VCALENDAR
