BEGIN:VCALENDAR
VERSION:2.0
PRODID:-//horsealert.local//NONSGML kigkonsult.se iCalcreator 2.10.5//
CALSCALE:GREGORIAN
X-WR-TIMEZONE:Europe/Dublin
BEGIN:VTIMEZONE
TZID:Etc/GMT-1
BEGIN:STANDARD
DTSTART:20010101T000000
TZOFFSETFROM:+0100
TZOFFSETTO:+0100
TZNAME:GMT +01:00
END:STANDARD
END:VTIMEZONE
BEGIN:VEVENT
UID:20260424T223803CEST-7134KIxZpL@horsealert.local
DTSTAMP:20260424T200403Z
CATEGORIES:Horse Alerts
DESCRIPTION:Albert Bartlett Novices\' Hurdle \(Registered As The Bristol No
 vices\' Hurdle\) \(Grade 2\)
DTSTART:20131214T135000
LOCATION:England
SUMMARY:Horse Racing:Albert Bartlett Novices\' Hurdle \(Registered As The B
 ristol Novices\' Hurdle\) \(Grade 2\)
END:VEVENT
END:VCALENDAR
