BEGIN:VCALENDAR
VERSION:2.0
PRODID:-//horsealert.local//NONSGML kigkonsult.se iCalcreator 2.10.5//
CALSCALE:GREGORIAN
X-WR-TIMEZONE:Europe/Dublin
BEGIN:VTIMEZONE
TZID:Etc/GMT-1
BEGIN:STANDARD
DTSTART:20010101T000000
TZOFFSETFROM:+0100
TZOFFSETTO:+0100
TZNAME:GMT +01:00
END:STANDARD
END:VTIMEZONE
BEGIN:VEVENT
UID:20260425T000919CEST-9813FnEXLu@horsealert.local
DTSTAMP:20260424T220419Z
CATEGORIES:Horse Alerts
DESCRIPTION:New Years Day 2014 At Fairyhouse Handicap Hurdle \(80-116\)
DTSTART:20131214T134000
LOCATION:Eire
SUMMARY:Horse Racing:New Years Day 2014 At Fairyhouse Handicap Hurdle \(80-
 116\)
END:VEVENT
END:VCALENDAR
