BEGIN:VCALENDAR
VERSION:2.0
PRODID:-//horsealert.local//NONSGML kigkonsult.se iCalcreator 2.10.5//
CALSCALE:GREGORIAN
X-WR-TIMEZONE:Europe/Dublin
BEGIN:VTIMEZONE
TZID:Etc/GMT-1
BEGIN:STANDARD
DTSTART:20010101T000000
TZOFFSETFROM:+0100
TZOFFSETTO:+0100
TZNAME:GMT +01:00
END:STANDARD
END:VTIMEZONE
BEGIN:VEVENT
UID:20260424T223613CEST-444352MaZX@horsealert.local
DTSTAMP:20260424T200413Z
CATEGORIES:Horse Alerts
DESCRIPTION:Stewart Family Thank You Gold Cup \(Grade 3 Handicap Chase\)
DTSTART:20131214T142500
LOCATION:England
SUMMARY:Horse Racing:Stewart Family Thank You Gold Cup \(Grade 3 Handicap C
 hase\)
END:VEVENT
END:VCALENDAR
