BEGIN:VCALENDAR
VERSION:2.0
PRODID:-//horsealert.local//NONSGML kigkonsult.se iCalcreator 2.10.5//
CALSCALE:GREGORIAN
X-WR-TIMEZONE:Europe/Dublin
BEGIN:VTIMEZONE
TZID:Etc/GMT-1
BEGIN:STANDARD
DTSTART:20010101T000000
TZOFFSETFROM:+0100
TZOFFSETTO:+0100
TZNAME:GMT +01:00
END:STANDARD
END:VTIMEZONE
BEGIN:VEVENT
UID:20260425T003110CEST-2499DBV6g1@horsealert.local
DTSTAMP:20260424T220410Z
CATEGORIES:Horse Alerts
DESCRIPTION:Ladbrokes Mobile All-Weather \'Hands And Heels\' Apprentice Ser
 ies Handicap
DTSTART:20131211T153000
LOCATION:England
SUMMARY:Horse Racing:Ladbrokes Mobile All-Weather \'Hands And Heels\' Appre
 ntice Series Handicap
END:VEVENT
END:VCALENDAR
