BEGIN:VCALENDAR
VERSION:2.0
PRODID:-//horsealert.local//NONSGML kigkonsult.se iCalcreator 2.10.5//
CALSCALE:GREGORIAN
X-WR-TIMEZONE:Europe/Dublin
BEGIN:VTIMEZONE
TZID:Etc/GMT-1
BEGIN:STANDARD
DTSTART:20010101T000000
TZOFFSETFROM:+0100
TZOFFSETTO:+0100
TZNAME:GMT +01:00
END:STANDARD
END:VTIMEZONE
BEGIN:VEVENT
UID:20260424T223607CEST-3383vczbgV@horsealert.local
DTSTAMP:20260424T200407Z
CATEGORIES:Horse Alerts
DESCRIPTION:Prix De L\'Association Des Eleveurs Du Sud-Est Handicap
DTSTART:20131210T171000
LOCATION:France
SUMMARY:Horse Racing:Prix De L\'Association Des Eleveurs Du Sud-Est Handica
 p
END:VEVENT
END:VCALENDAR
