BEGIN:VCALENDAR
VERSION:2.0
PRODID:-//horsealert.local//NONSGML kigkonsult.se iCalcreator 2.10.5//
CALSCALE:GREGORIAN
X-WR-TIMEZONE:Europe/Dublin
BEGIN:VTIMEZONE
TZID:Etc/GMT-1
BEGIN:STANDARD
DTSTART:20010101T000000
TZOFFSETFROM:+0100
TZOFFSETTO:+0100
TZNAME:GMT +01:00
END:STANDARD
END:VTIMEZONE
BEGIN:VEVENT
UID:20260424T223734CEST-9860uteufA@horsealert.local
DTSTAMP:20260424T200434Z
CATEGORIES:Horse Alerts
DESCRIPTION:John Wade Always Right Champion Chase \(Handicap Chase\) \(Sund
 ay 5k Bonus Race\)
DTSTART:20131208T142500
LOCATION:Scotland
SUMMARY:Horse Racing:John Wade Always Right Champion Chase \(Handicap Chase
 \) \(Sunday 5k Bonus Race\)
END:VEVENT
END:VCALENDAR
