BEGIN:VCALENDAR
VERSION:2.0
PRODID:-//horsealert.local//NONSGML kigkonsult.se iCalcreator 2.10.5//
CALSCALE:GREGORIAN
X-WR-TIMEZONE:Europe/Dublin
BEGIN:VTIMEZONE
TZID:Etc/GMT-1
BEGIN:STANDARD
DTSTART:20010101T000000
TZOFFSETFROM:+0100
TZOFFSETTO:+0100
TZNAME:GMT +01:00
END:STANDARD
END:VTIMEZONE
BEGIN:VEVENT
UID:20260425T031558CEST-97226X3h7s@horsealert.local
DTSTAMP:20260425T010458Z
CATEGORIES:Horse Alerts
DESCRIPTION:Bet totequadpot With totepool Handicap Hurdle
DTSTART:20131207T131000
LOCATION:England
SUMMARY:Horse Racing:Bet totequadpot With totepool Handicap Hurdle
END:VEVENT
END:VCALENDAR
