BEGIN:VCALENDAR
VERSION:2.0
PRODID:-//horsealert.local//NONSGML kigkonsult.se iCalcreator 2.10.5//
CALSCALE:GREGORIAN
X-WR-TIMEZONE:Europe/Dublin
BEGIN:VTIMEZONE
TZID:Etc/GMT-1
BEGIN:STANDARD
DTSTART:20010101T000000
TZOFFSETFROM:+0100
TZOFFSETTO:+0100
TZNAME:GMT +01:00
END:STANDARD
END:VTIMEZONE
BEGIN:VEVENT
UID:20260425T003105CEST-9064msW0G4@horsealert.local
DTSTAMP:20260424T220405Z
CATEGORIES:Horse Alerts
DESCRIPTION:32Red/British Stallion Studs E.B.F. Maiden Fillies\' Stakes \(D
 iv 2\)
DTSTART:20131206T121500
LOCATION:England
SUMMARY:Horse Racing:32Red/British Stallion Studs E.B.F. Maiden Fillies\' S
 takes \(Div 2\)
END:VEVENT
END:VCALENDAR
