BEGIN:VCALENDAR
VERSION:2.0
PRODID:-//horsealert.local//NONSGML kigkonsult.se iCalcreator 2.10.5//
CALSCALE:GREGORIAN
X-WR-TIMEZONE:Europe/Dublin
BEGIN:VTIMEZONE
TZID:Etc/GMT-1
BEGIN:STANDARD
DTSTART:20010101T000000
TZOFFSETFROM:+0100
TZOFFSETTO:+0100
TZNAME:GMT +01:00
END:STANDARD
END:VTIMEZONE
BEGIN:VEVENT
UID:20260425T014416CEST-4298fa8jiw@horsealert.local
DTSTAMP:20260424T230416Z
CATEGORIES:Horse Alerts
DESCRIPTION:Martyn Batley \'Back\' To Work At Last \'Junior\' Standard Open
  NH Flat Race
DTSTART:20131130T152500
LOCATION:England
SUMMARY:Horse Racing:Martyn Batley \'Back\' To Work At Last \'Junior\' Stan
 dard Open NH Flat Race
END:VEVENT
END:VCALENDAR
