BEGIN:VCALENDAR
VERSION:2.0
PRODID:-//horsealert.local//NONSGML kigkonsult.se iCalcreator 2.10.5//
CALSCALE:GREGORIAN
X-WR-TIMEZONE:Europe/Dublin
BEGIN:VTIMEZONE
TZID:Etc/GMT-1
BEGIN:STANDARD
DTSTART:20010101T000000
TZOFFSETFROM:+0100
TZOFFSETTO:+0100
TZNAME:GMT +01:00
END:STANDARD
END:VTIMEZONE
BEGIN:VEVENT
UID:20260425T014415CEST-96560E28L7@horsealert.local
DTSTAMP:20260424T230415Z
CATEGORIES:Horse Alerts
DESCRIPTION:PDS Ltd \'Follow Us On Facebook\' Conditional Jockeys\' Handica
 p Chase
DTSTART:20131130T145000
LOCATION:England
SUMMARY:Horse Racing:PDS Ltd \'Follow Us On Facebook\' Conditional Jockeys\
 ' Handicap Chase
END:VEVENT
END:VCALENDAR
