BEGIN:VCALENDAR
VERSION:2.0
PRODID:-//horsealert.local//NONSGML kigkonsult.se iCalcreator 2.10.5//
CALSCALE:GREGORIAN
X-WR-TIMEZONE:Europe/Dublin
BEGIN:VTIMEZONE
TZID:Etc/GMT-1
BEGIN:STANDARD
DTSTART:20010101T000000
TZOFFSETFROM:+0100
TZOFFSETTO:+0100
TZNAME:GMT +01:00
END:STANDARD
END:VTIMEZONE
BEGIN:VEVENT
UID:20260425T044007CEST-8741GLjm5R@horsealert.local
DTSTAMP:20260425T020407Z
CATEGORIES:Horse Alerts
DESCRIPTION:Mobile Betting freebets.co.uk NH Flat Race \(Conditional Jockey
 s And Amateur Riders\)
DTSTART:20131129T153500
LOCATION:England
SUMMARY:Horse Racing:Mobile Betting freebets.co.uk NH Flat Race \(Condition
 al Jockeys And Amateur Riders\)
END:VEVENT
END:VCALENDAR
