BEGIN:VCALENDAR
VERSION:2.0
PRODID:-//horsealert.local//NONSGML kigkonsult.se iCalcreator 2.10.5//
CALSCALE:GREGORIAN
X-WR-TIMEZONE:Europe/Dublin
BEGIN:VTIMEZONE
TZID:Etc/GMT-1
BEGIN:STANDARD
DTSTART:20010101T000000
TZOFFSETFROM:+0100
TZOFFSETTO:+0100
TZNAME:GMT +01:00
END:STANDARD
END:VTIMEZONE
BEGIN:VEVENT
UID:20260425T014221CEST-0912xFkene@horsealert.local
DTSTAMP:20260424T230421Z
CATEGORIES:Horse Alerts
DESCRIPTION:Cornhill Building Services Ltd Maiden Hurdle
DTSTART:20131129T134500
LOCATION:Scotland
SUMMARY:Horse Racing:Cornhill Building Services Ltd Maiden Hurdle
END:VEVENT
END:VCALENDAR
