BEGIN:VCALENDAR
VERSION:2.0
PRODID:-//horsealert.local//NONSGML kigkonsult.se iCalcreator 2.10.5//
CALSCALE:GREGORIAN
X-WR-TIMEZONE:Europe/Dublin
BEGIN:VTIMEZONE
TZID:Etc/GMT-1
BEGIN:STANDARD
DTSTART:20010101T000000
TZOFFSETFROM:+0100
TZOFFSETTO:+0100
TZNAME:GMT +01:00
END:STANDARD
END:VTIMEZONE
BEGIN:VEVENT
UID:20260425T032554CEST-2938F0PfcN@horsealert.local
DTSTAMP:20260425T010454Z
CATEGORIES:Horse Alerts
DESCRIPTION:theconistonhotel.com Ideal For Business & Pleasure \'National H
 unt\' Novices\' Hurdle
DTSTART:20131127T132000
LOCATION:England
SUMMARY:Horse Racing:theconistonhotel.com Ideal For Business & Pleasure \'N
 ational Hunt\' Novices\' Hurdle
END:VEVENT
END:VCALENDAR
