BEGIN:VCALENDAR
VERSION:2.0
PRODID:-//horsealert.local//NONSGML kigkonsult.se iCalcreator 2.10.5//
CALSCALE:GREGORIAN
X-WR-TIMEZONE:Europe/Dublin
BEGIN:VTIMEZONE
TZID:Etc/GMT-1
BEGIN:STANDARD
DTSTART:20010101T000000
TZOFFSETFROM:+0100
TZOFFSETTO:+0100
TZNAME:GMT +01:00
END:STANDARD
END:VTIMEZONE
BEGIN:VEVENT
UID:20260425T014359CEST-3971SvAW6p@horsealert.local
DTSTAMP:20260424T230459Z
CATEGORIES:Horse Alerts
DESCRIPTION:500 Free Bets At Betdaq Wild Flower Stakes \(Listed\)
DTSTART:20131127T180000
LOCATION:England
SUMMARY:Horse Racing:500 Free Bets At Betdaq Wild Flower Stakes \(Listed\)
END:VEVENT
END:VCALENDAR
