BEGIN:VCALENDAR
VERSION:2.0
PRODID:-//horsealert.local//NONSGML kigkonsult.se iCalcreator 2.10.5//
CALSCALE:GREGORIAN
X-WR-TIMEZONE:Europe/Dublin
BEGIN:VTIMEZONE
TZID:Etc/GMT-1
BEGIN:STANDARD
DTSTART:20010101T000000
TZOFFSETFROM:+0100
TZOFFSETTO:+0100
TZNAME:GMT +01:00
END:STANDARD
END:VTIMEZONE
BEGIN:VEVENT
UID:20260425T032546CEST-55964VcGoD@horsealert.local
DTSTAMP:20260425T010446Z
CATEGORIES:Horse Alerts
DESCRIPTION:Crown\, Whickham At Wear Inns Conditional Jockeys\' Novices\' H
 urdle \(Paxtons Hurdle Series Qualifier\)
DTSTART:20131126T122000
LOCATION:England
SUMMARY:Horse Racing:Crown\, Whickham At Wear Inns Conditional Jockeys\' No
 vices\' Hurdle \(Paxtons Hurdle Series Qualifier\)
END:VEVENT
END:VCALENDAR
