BEGIN:VCALENDAR
VERSION:2.0
PRODID:-//horsealert.local//NONSGML kigkonsult.se iCalcreator 2.10.5//
CALSCALE:GREGORIAN
X-WR-TIMEZONE:Europe/Dublin
BEGIN:VTIMEZONE
TZID:Etc/GMT-1
BEGIN:STANDARD
DTSTART:20010101T000000
TZOFFSETFROM:+0100
TZOFFSETTO:+0100
TZNAME:GMT +01:00
END:STANDARD
END:VTIMEZONE
BEGIN:VEVENT
UID:20260425T014418CEST-8865IFvVCZ@horsealert.local
DTSTAMP:20260424T230418Z
CATEGORIES:Horse Alerts
DESCRIPTION:Bet totejackpot With totepool E.B.F. Stallions \'National Hunt\
 ' Novices\' Hurdle \(Qualifier\)
DTSTART:20131125T134500
LOCATION:England
SUMMARY:Horse Racing:Bet totejackpot With totepool E.B.F. Stallions \'Natio
 nal Hunt\' Novices\' Hurdle \(Qualifier\)
END:VEVENT
END:VCALENDAR
