BEGIN:VCALENDAR
VERSION:2.0
PRODID:-//horsealert.local//NONSGML kigkonsult.se iCalcreator 2.10.5//
CALSCALE:GREGORIAN
X-WR-TIMEZONE:Europe/Dublin
BEGIN:VTIMEZONE
TZID:Etc/GMT-1
BEGIN:STANDARD
DTSTART:20010101T000000
TZOFFSETFROM:+0100
TZOFFSETTO:+0100
TZNAME:GMT +01:00
END:STANDARD
END:VTIMEZONE
BEGIN:VEVENT
UID:20260425T014417CEST-06124vU5vV@horsealert.local
DTSTAMP:20260424T230417Z
CATEGORIES:Horse Alerts
DESCRIPTION:Mike And Freda Clayton Memorial Handicap Chase \(Sunday 5k Bonu
 s Race\)
DTSTART:20131124T141500
LOCATION:England
SUMMARY:Horse Racing:Mike And Freda Clayton Memorial Handicap Chase \(Sunda
 y 5k Bonus Race\)
END:VEVENT
END:VCALENDAR
