BEGIN:VCALENDAR
VERSION:2.0
PRODID:-//horsealert.local//NONSGML kigkonsult.se iCalcreator 2.10.5//
CALSCALE:GREGORIAN
X-WR-TIMEZONE:Europe/Dublin
BEGIN:VTIMEZONE
TZID:Etc/GMT-1
BEGIN:STANDARD
DTSTART:20010101T000000
TZOFFSETFROM:+0100
TZOFFSETTO:+0100
TZNAME:GMT +01:00
END:STANDARD
END:VTIMEZONE
BEGIN:VEVENT
UID:20260425T014413CEST-4114sTFzD9@horsealert.local
DTSTAMP:20260424T230413Z
CATEGORIES:Horse Alerts
DESCRIPTION:Read Nicholls And McCain Exclusively On Betfair Hurdle \(Interm
 ediate Hurdle\)
DTSTART:20131123T124500
LOCATION:England
SUMMARY:Horse Racing:Read Nicholls And McCain Exclusively On Betfair Hurdle
  \(Intermediate Hurdle\)
END:VEVENT
END:VCALENDAR
