BEGIN:VCALENDAR
VERSION:2.0
PRODID:-//horsealert.local//NONSGML kigkonsult.se iCalcreator 2.10.5//
CALSCALE:GREGORIAN
X-WR-TIMEZONE:Europe/Dublin
BEGIN:VTIMEZONE
TZID:Etc/GMT-1
BEGIN:STANDARD
DTSTART:20010101T000000
TZOFFSETFROM:+0100
TZOFFSETTO:+0100
TZNAME:GMT +01:00
END:STANDARD
END:VTIMEZONE
BEGIN:VEVENT
UID:20260425T014403CEST-6653FDArt0@horsealert.local
DTSTAMP:20260424T230403Z
CATEGORIES:Horse Alerts
DESCRIPTION:Betfair Chase \(Registered As The Lancashire Chase\) \(Grade 1\
 )
DTSTART:20131123T150000
LOCATION:England
SUMMARY:Horse Racing:Betfair Chase \(Registered As The Lancashire Chase\) \
 (Grade 1\)
END:VEVENT
END:VCALENDAR
