BEGIN:VCALENDAR
VERSION:2.0
PRODID:-//horsealert.local//NONSGML kigkonsult.se iCalcreator 2.10.5//
CALSCALE:GREGORIAN
X-WR-TIMEZONE:Europe/Dublin
BEGIN:VTIMEZONE
TZID:Etc/GMT-1
BEGIN:STANDARD
DTSTART:20010101T000000
TZOFFSETFROM:+0100
TZOFFSETTO:+0100
TZNAME:GMT +01:00
END:STANDARD
END:VTIMEZONE
BEGIN:VEVENT
UID:20260425T032542CEST-64431iZUmN@horsealert.local
DTSTAMP:20260425T010442Z
CATEGORIES:Horse Alerts
DESCRIPTION:PHS Besafe Flame Gear Workwear Handicap Hurdle \(Jockey Club Gr
 assroots Jumps Series Qualifier\)
DTSTART:20131121T144000
LOCATION:England
SUMMARY:Horse Racing:PHS Besafe Flame Gear Workwear Handicap Hurdle \(Jocke
 y Club Grassroots Jumps Series Qualifier\)
END:VEVENT
END:VCALENDAR
