BEGIN:VCALENDAR
VERSION:2.0
PRODID:-//horsealert.local//NONSGML kigkonsult.se iCalcreator 2.10.5//
CALSCALE:GREGORIAN
X-WR-TIMEZONE:Europe/Dublin
BEGIN:VTIMEZONE
TZID:Etc/GMT-1
BEGIN:STANDARD
DTSTART:20010101T000000
TZOFFSETFROM:+0100
TZOFFSETTO:+0100
TZNAME:GMT +01:00
END:STANDARD
END:VTIMEZONE
BEGIN:VEVENT
UID:20260425T061748CEST-2834X3Uebr@horsealert.local
DTSTAMP:20260425T040448Z
CATEGORIES:Horse Alerts
DESCRIPTION:Local Parking Securities Supporting Paul\'s Place Handicap Chas
 e
DTSTART:20131121T145000
LOCATION:Wales
SUMMARY:Horse Racing:Local Parking Securities Supporting Paul\'s Place Hand
 icap Chase
END:VEVENT
END:VCALENDAR
