BEGIN:VCALENDAR
VERSION:2.0
PRODID:-//horsealert.local//NONSGML kigkonsult.se iCalcreator 2.10.5//
CALSCALE:GREGORIAN
X-WR-TIMEZONE:Europe/Dublin
BEGIN:VTIMEZONE
TZID:Etc/GMT-1
BEGIN:STANDARD
DTSTART:20010101T000000
TZOFFSETFROM:+0100
TZOFFSETTO:+0100
TZNAME:GMT +01:00
END:STANDARD
END:VTIMEZONE
BEGIN:VEVENT
UID:20260425T014351CEST-8163n2OPW1@horsealert.local
DTSTAMP:20260424T230451Z
CATEGORIES:Horse Alerts
DESCRIPTION:P. C. Air Conditioning Supporting Paul\'s Place Novices\' Hurdl
 e
DTSTART:20131121T124000
LOCATION:Wales
SUMMARY:Horse Racing:P. C. Air Conditioning Supporting Paul\'s Place Novice
 s\' Hurdle
END:VEVENT
END:VCALENDAR
