BEGIN:VCALENDAR
VERSION:2.0
PRODID:-//horsealert.local//NONSGML kigkonsult.se iCalcreator 2.10.5//
CALSCALE:GREGORIAN
X-WR-TIMEZONE:Europe/Dublin
BEGIN:VTIMEZONE
TZID:Etc/GMT-1
BEGIN:STANDARD
DTSTART:20010101T000000
TZOFFSETFROM:+0100
TZOFFSETTO:+0100
TZNAME:GMT +01:00
END:STANDARD
END:VTIMEZONE
BEGIN:VEVENT
UID:20260425T061734CEST-7681vphpcm@horsealert.local
DTSTAMP:20260425T040434Z
CATEGORIES:Horse Alerts
DESCRIPTION:Winners Are Welcome At Betdaq E.B.F. Stallions Hyde Stakes \(Li
 sted\)
DTSTART:20131120T183000
LOCATION:England
SUMMARY:Horse Racing:Winners Are Welcome At Betdaq E.B.F. Stallions Hyde St
 akes \(Listed\)
END:VEVENT
END:VCALENDAR
