BEGIN:VCALENDAR
VERSION:2.0
PRODID:-//horsealert.local//NONSGML kigkonsult.se iCalcreator 2.10.5//
CALSCALE:GREGORIAN
X-WR-TIMEZONE:Europe/Dublin
BEGIN:VTIMEZONE
TZID:Etc/GMT-1
BEGIN:STANDARD
DTSTART:20010101T000000
TZOFFSETFROM:+0100
TZOFFSETTO:+0100
TZNAME:GMT +01:00
END:STANDARD
END:VTIMEZONE
BEGIN:VEVENT
UID:20260425T014415CEST-5128KG6AkN@horsealert.local
DTSTAMP:20260424T230415Z
CATEGORIES:Horse Alerts
DESCRIPTION:John Rogerson Memorial Novices\' Limited Handicap Chase \(Sunda
 y 5k Bonus Race\)
DTSTART:20131117T145500
LOCATION:England
SUMMARY:Horse Racing:John Rogerson Memorial Novices\' Limited Handicap Chas
 e \(Sunday 5k Bonus Race\)
END:VEVENT
END:VCALENDAR
