BEGIN:VCALENDAR
VERSION:2.0
PRODID:-//horsealert.local//NONSGML kigkonsult.se iCalcreator 2.10.5//
CALSCALE:GREGORIAN
X-WR-TIMEZONE:Europe/Dublin
BEGIN:VTIMEZONE
TZID:Etc/GMT-1
BEGIN:STANDARD
DTSTART:20010101T000000
TZOFFSETFROM:+0100
TZOFFSETTO:+0100
TZNAME:GMT +01:00
END:STANDARD
END:VTIMEZONE
BEGIN:VEVENT
UID:20260425T032551CEST-49198xJo0h@horsealert.local
DTSTAMP:20260425T010451Z
CATEGORIES:Horse Alerts
DESCRIPTION:www.racinghomeforeaster.com Maiden Hurdle
DTSTART:20131117T132500
LOCATION:Eire
SUMMARY:Horse Racing:www.racinghomeforeaster.com Maiden Hurdle
END:VEVENT
END:VCALENDAR
