BEGIN:VCALENDAR
VERSION:2.0
PRODID:-//horsealert.local//NONSGML kigkonsult.se iCalcreator 2.10.5//
CALSCALE:GREGORIAN
X-WR-TIMEZONE:Europe/Dublin
BEGIN:VTIMEZONE
TZID:Etc/GMT-1
BEGIN:STANDARD
DTSTART:20010101T000000
TZOFFSETFROM:+0100
TZOFFSETTO:+0100
TZNAME:GMT +01:00
END:STANDARD
END:VTIMEZONE
BEGIN:VEVENT
UID:20260425T044020CEST-7072UpKaXf@horsealert.local
DTSTAMP:20260425T020420Z
CATEGORIES:Horse Alerts
DESCRIPTION:Ballymore GAA Christmas Fair & Family Fun Day 3-Y-O Hurdle
DTSTART:20131116T120000
LOCATION:Eire
SUMMARY:Horse Racing:Ballymore GAA Christmas Fair & Family Fun Day 3-Y-O Hu
 rdle
END:VEVENT
END:VCALENDAR
