BEGIN:VCALENDAR
VERSION:2.0
PRODID:-//horsealert.local//NONSGML kigkonsult.se iCalcreator 2.10.5//
CALSCALE:GREGORIAN
X-WR-TIMEZONE:Europe/Dublin
BEGIN:VTIMEZONE
TZID:Etc/GMT-1
BEGIN:STANDARD
DTSTART:20010101T000000
TZOFFSETFROM:+0100
TZOFFSETTO:+0100
TZNAME:GMT +01:00
END:STANDARD
END:VTIMEZONE
BEGIN:VEVENT
UID:20260425T014343CEST-4146uwUln1@horsealert.local
DTSTAMP:20260424T230443Z
CATEGORIES:Horse Alerts
DESCRIPTION:Irish Stallion Farms European Breeders Fund Fillies Maiden
DTSTART:20131113T184500
LOCATION:Eire
SUMMARY:Horse Racing:Irish Stallion Farms European Breeders Fund Fillies Ma
 iden
END:VEVENT
END:VCALENDAR
