BEGIN:VCALENDAR
VERSION:2.0
PRODID:-//horsealert.local//NONSGML kigkonsult.se iCalcreator 2.10.5//
CALSCALE:GREGORIAN
X-WR-TIMEZONE:Europe/Dublin
BEGIN:VTIMEZONE
TZID:Etc/GMT-1
BEGIN:STANDARD
DTSTART:20010101T000000
TZOFFSETFROM:+0100
TZOFFSETTO:+0100
TZNAME:GMT +01:00
END:STANDARD
END:VTIMEZONE
BEGIN:VEVENT
UID:20260425T014253CEST-2831KO7cSR@horsealert.local
DTSTAMP:20260424T230453Z
CATEGORIES:Horse Alerts
DESCRIPTION:Money Advice Group Sir John Hanmer Novices\' Limited Handicap C
 hase
DTSTART:20131113T132000
LOCATION:Wales
SUMMARY:Horse Racing:Money Advice Group Sir John Hanmer Novices\' Limited H
 andicap Chase
END:VEVENT
END:VCALENDAR
